BEGIN:VCALENDAR
VERSION:2.0
METHOD:PUBLISH
PRODID::-//Obvius//NONSGML ICal//DA
BEGIN:VEVENT
UID:5012559@nbi.ku.dk
DESCRIPTION:TBA\n\nhttps://nbi.ku.dk/english/research/theoretical-particle
 -physics-and-cosmology/calendar/2026/high-enery-theory-seminar-joaquim-gom
 is/
SUMMARY:High Enery Theory Seminar: Joaquim Gomis
CATEGORIES:Seminar
LOCATION:Hb1\, Blegdamsvej 17
DTSTART:20260422T111500Z
DTSTAMP:20260422T111500Z
END:VEVENT
BEGIN:VEVENT
UID:5032015@nbi.ku.dk
DESCRIPTION: A Microscopic View of the Macroscopic: Mass\, Matter\, and N
 ew Possibilities at the LHC\n\nhttps://nbi.ku.dk/moed-os/niels_bohr_lectur
 es/2026/niels-bohr-lecture-by-monica-dunford/
SUMMARY:Niels Bohr Lecture by Monica Dunford
CATEGORIES:Foredrag
LOCATION:Margrethesalen\, NBB. 
ORGANIZER:Gosia Dekempe
DTSTART:20260422T131500Z
DTSTAMP:20260422T131500Z
END:VEVENT
BEGIN:VEVENT
UID:5012562@nbi.ku.dk
DESCRIPTION:\n\nhttps://nbi.ku.dk/english/research/theoretical-particle-ph
 ysics-and-cosmology/calendar/2026/high-energy-theory-seminar-matthew-yu/
SUMMARY:High Energy Theory Seminar: Matthew Yu
CATEGORIES:Seminar
LOCATION:Hb1\, Blegdamsvej 17
DTSTART:20260423T111500Z
DTSTAMP:20260423T111500Z
END:VEVENT
BEGIN:VEVENT
UID:4988358@nbi.ku.dk
DESCRIPTION:Dating deep Antarctic ice cores to understand glacial-intergla
 cial climate variability\n\nhttps://nbi.ku.dk/english/research/pice/calend
 ar/2026-calendar/pice-talk-by-marie-bouchet/
SUMMARY:PICE Talk by Marie Bouchet
CATEGORIES:Foredrag
LOCATION:NBB.01.2.F.056
ORGANIZER:PICE
DTSTART:20260424T110000Z
DTSTAMP:20260424T110000Z
DTEND:20260424T120000Z
END:VEVENT
BEGIN:VEVENT
UID:5031715@nbi.ku.dk
DESCRIPTION:Atom‑Ion Feshbach Resonances in Ba⁺ + Li Collisions\n\nhtt
 ps://nbi.ku.dk/english/research/quantum-optics-and-photonics/calendar/2026
 /quantum-optics-seminar-han-bao-university-of-freiburg-germany/
SUMMARY:Quantum Optics Seminar: Han Bao\, University of Freiburg\, Germany
 
CATEGORIES:Seminar
LOCATION:NBB 2.2.H.142\, Jagtvej 155
ORGANIZER:Quantum Optics\, Klaus Mølmer
DTSTART:20260427T070000Z
DTSTAMP:20260427T070000Z
DTEND:20260427T090000Z
END:VEVENT
BEGIN:VEVENT
UID:5033002@nbi.ku.dk
DESCRIPTION:\n\nhttps://nbi.ku.dk/english/research/theoretical-particle-ph
 ysics-and-cosmology/calendar/2026/astro-seminar-julia-bodensteiner/
SUMMARY:Astro Seminar: Julia Bodensteiner
CATEGORIES:Seminar
LOCATION:Auditorium A\, Blegdamsvej 17
ORGANIZER:Mariam Gogilashvili\, Christopher Tiede\, Shunke Ai\, Alejandro 
 Vigna-Gomez\, Irene Tamborra\, Johan Samsing
DTSTART:20260427T121500Z
DTSTAMP:20260427T121500Z
END:VEVENT
BEGIN:VEVENT
UID:5012565@nbi.ku.dk
DESCRIPTION:TBA\n\nhttps://nbi.ku.dk/english/research/theoretical-particle
 -physics-and-cosmology/calendar/2026/high-energy-theory-seminar-erik-tonni
 /
SUMMARY:High Energy Theory Seminar: Erik Tonni
CATEGORIES:Seminar
LOCATION:Aud A\, Blegdamsvej 17
DTSTART:20260429T111500Z
DTSTAMP:20260429T111500Z
END:VEVENT
BEGIN:VEVENT
UID:5033005@nbi.ku.dk
DESCRIPTION:\n\nhttps://quantumhub.ku.dk/events/quantum-research-seminar/q
 uantum-research-seminar-evi-aspropotamiti--antonio-manesco/
SUMMARY:Quantum Research Seminar: Evi Aspropotamiti & Antonio Manesco
CATEGORIES:Seminar
LOCATION:HCØ Aud. 6
ORGANIZER:UCPH Quantum Hub\, Levin Seidt
DTSTART:20260508T100000Z
DTSTAMP:20260508T100000Z
DTEND:20260508T110000Z
END:VEVENT
BEGIN:VEVENT
UID:5032933@nbi.ku.dk
DESCRIPTION:Supernova Explosions of Massive Stars: Connecting Models and O
 bservations in 3D\n\nhttps://nbi.ku.dk/moed-os/niels_bohr_lectures/2026/ni
 els-bohr-lecture-by/
SUMMARY:Niels Bohr Lecture by Hans-Thomas Janka \, Technical University Mu
 nich (TUM).
CATEGORIES:Foredrag
LOCATION:Margrethe Bohr Salen\, Niels Bohr Bygningen
ORGANIZER:Gosia Dekempe
DTSTART:20260513T131500Z
DTSTAMP:20260513T131500Z
DTEND:20260512T220000Z
END:VEVENT
BEGIN:VEVENT
UID:5004551@nbi.ku.dk
DESCRIPTION:Title to be added\n\nhttps://nbi.ku.dk/english/research/pice/c
 alendar/2026-calendar/pice-talk-by-julie-laenkholm/
SUMMARY:PICE Talk by Julie Lænkholm
LOCATION:NBB.01.2.F.056
ORGANIZER:PICE
DTSTART:20260515T110000Z
DTSTAMP:20260515T110000Z
DTEND:20260515T120000Z
END:VEVENT
BEGIN:VEVENT
UID:5004548@nbi.ku.dk
DESCRIPTION:Philosophy sci-fi and climate change\n\nhttps://nbi.ku.dk/engl
 ish/research/pice/calendar/2026-calendar/pice-talk-by-mikkel-krause-frantz
 en/
SUMMARY:PICE Talk by Mikkel Krause Frantzen
CATEGORIES:Seminar
LOCATION:NBB.01.2.F.056
ORGANIZER:PICE
DTSTART:20260529T110000Z
DTSTAMP:20260529T110000Z
DTEND:20260529T120000Z
END:VEVENT
BEGIN:VEVENT
UID:5002785@nbi.ku.dk
DESCRIPTION:The School on Gravity will introduce junior scientists—gradu
 ate students and advanced undergraduates with a background in general rela
 tivity—to a wide range of foundational topics in the exciting new field 
 of gravitational wave physics.\n\nhttps://nbi.ku.dk/english/Calendar/activ
 ities_26/the-school-on-gravity-from-motion-to-comotion/
SUMMARY:The School on Gravity: From Motion to Comotion
LOCATION:Auditorium A\, Blegdamsvej 17
ORGANIZER:Vitor Cardoso and Jose Ezquiaga
DTSTART:20260622T070000Z
DTSTAMP:20260622T070000Z
DTEND:20260626T140000Z
END:VEVENT
END:VCALENDAR
